BEGIN:VCALENDAR
VERSION:2.0
PRODID:-//Ascefet Minas
CALSCALE:GREGORIAN
METHOD:PUBLISH
X-WR-CALNAME:Ascefet Minas
X-ORIGINAL-URL:https://ascefetmg.org.br/eventos/cafe-com-prosa-abril-cancelado/
X-WR-CALDESC:Café com Prosa Abril CANCELADO
BEGIN:VEVENT
DTSTART:20200401T090000
DTEND:20200401T160000
SUMMARY:Café com Prosa Abril CANCELADO
DESCRIPTION: Seguindo as orientações dos órgãos competentes quanto ao Coronavírus, a diretoria da Ascefet resolveu cancelar o nosso encontro do mês de Abril, pensando no bem-estar de todos. Entendemos a importância do nosso encontro, mas, neste momento, torna-se mais importante a prevenção e cuidado com cada associado. <br/>
Por isso, o Café com Prosa não acontecerá.<br/>
Agradecemos a compreensão de todos e nos colocamos à disposição.
LOCATION:Espaço C.A.S.A. Rua Joaquim Nabuco 81 Nova Suissa BH - MG
END:VEVENT
END:VCALENDAR
