BEGIN:VCALENDAR
VERSION:2.0
PRODID:-//Ascefet Minas
CALSCALE:GREGORIAN
METHOD:PUBLISH
X-WR-CALNAME:Ascefet Minas
X-ORIGINAL-URL:https://ascefetmg.org.br/eventos/feira-de-oportunidades-dezembro/
X-WR-CALDESC:Feira de Oportunidades Dezembro
BEGIN:VEVENT
DTSTART:20191202T090000
DTEND:20191206T160000
SUMMARY:Feira de Oportunidades Dezembro
DESCRIPTION:Vem aí a última Feira de Oportunidades do ano. Ela acontece entre os dias 2 e 6/12 no Hall do CEFET Campus I, das 8h às 17h. Não perca esse espaço
LOCATION:Hall do CEFET Campus I - Av. Amazonas, 5253 - Nova Suíça, Belo Horizonte - MG
END:VEVENT
END:VCALENDAR
