BEGIN:VCALENDAR
VERSION:2.0
PRODID:-//Ascefet Minas
CALSCALE:GREGORIAN
METHOD:PUBLISH
X-WR-CALNAME:Ascefet Minas
X-ORIGINAL-URL:https://ascefetmg.org.br/eventos/cafe-com-prosa-fevereiro-carnaval/
X-WR-CALDESC:Café com Prosa Fevereiro Carnaval
BEGIN:VEVENT
DTSTART:20200203T090000
DTEND:20200203T160000
SUMMARY:Café com Prosa Fevereiro Carnaval
DESCRIPTION:O primeiro Café com Prosa de 2020 está chegando. <br/>
Venha curtir um dia rodeado de amigos e matar as saudades de pessoas queridas.<br/>
Bate-papo, risadas e aquele buffet maravilhoso que amamos.<br/>
Não dá pra perder, né?<br/>
Esperamos você! Será no dia 03/02, das 9h às 16h, com intervalo das 12h às 13h, no Espaço C.A.S.A.
LOCATION:Espaço C.A.S.A. Rua Joaquim Nabuco 81 Nova Suissa BH - MG
END:VEVENT
END:VCALENDAR
