BEGIN:VCALENDAR
VERSION:2.0
PRODID:-//Ascefet Minas
CALSCALE:GREGORIAN
METHOD:PUBLISH
X-WR-CALNAME:Ascefet Minas
X-ORIGINAL-URL:https://ascefetmg.org.br/eventos/cafe-com-prosa-marco-dia-internacional-da-mulher/
X-WR-CALDESC:Café com Prosa Março Dia Internacional da Mulher
BEGIN:VEVENT
DTSTART:20200302T090000
DTEND:20200302T160000
SUMMARY:Café com Prosa Março Dia Internacional da Mulher
DESCRIPTION:O Café com Prosa de março está chegando com um tema muito especial: O DIA INTERNACIONAL DA MULHER<br/>
É hora de encontrar os amigos e batermos um papo sobre a luta diária de todas as mulheres.<br/>
Esperamos vocês para essa conversa muito importante, com aquele lanche gostoso que você já conhece.<br/>
Dia 2 de março, das 9h às 16h (com intervalo de almoço de 12h às 13h).
LOCATION:Espaço C.A.S.A. Rua Joaquim Nabuco 81 Nova Suissa BH - MG 
END:VEVENT
END:VCALENDAR
