BEGIN:VCALENDAR
VERSION:2.0
PRODID:-//Ascefet Minas
CALSCALE:GREGORIAN
METHOD:PUBLISH
X-WR-CALNAME:Ascefet Minas
X-ORIGINAL-URL:https://ascefetmg.org.br/eventos/dia-internacional-da-mulher/
X-WR-CALDESC:Dia Internacional <br/> da Mulher
BEGIN:VEVENT
DTSTART:20200306T180000
DTEND:20200306T220000
SUMMARY:Dia Internacional <br/> da Mulher
DESCRIPTION: ASCEFET COM VOCÊ. COM TODAS AS MULHERES.<br/>
No dia 6 de março, vamos comemorar o Dia Internacional da Mulher em um evento exclusivo para nossas associadas.<br/>
Venha celebrar conosco essa data tão importante. O encontro será no Espaço C.A.S.A., na sexta-feira, dia 06/03, das 18h às 22h.<br/>
Retire seu ingresso em nossa sede até o dia 05/03.
LOCATION:Espaço C.A.S.A. Rua Joaquim Nabuco 81 Nova Suissa BH - MG
END:VEVENT
END:VCALENDAR
