BEGIN:VCALENDAR
VERSION:2.0
PRODID:-//Ascefet Minas
CALSCALE:GREGORIAN
METHOD:PUBLISH
X-WR-CALNAME:Ascefet Minas
X-ORIGINAL-URL:https://ascefetmg.org.br/eventos/cafe-com-prosa-marco-campus-ii/
X-WR-CALDESC:Café com Prosa Março  Campus II
BEGIN:VEVENT
DTSTART:20200303T090000
DTEND:20200303T160000
SUMMARY:Café com Prosa Março  Campus II
DESCRIPTION:A Ascefet Minas quer estar com todos vocês!<br/>
É por isso que, em Março, teremos Café com Prosa também no Campus II.<br/>
Venha encontrar conosco para um bate-papo com a equipe e um lanche delicioso.<br/>
Será no dia 03/03, das 9h às 12h e das 14h às 16h, na Sala de Monitoria do Prédio 20 - Campus II.
Esperamos por vocês!
LOCATION:CEFET Campus II - Av.Amazonas 7675 Nova Gameleira
END:VEVENT
END:VCALENDAR
