BEGIN:VCALENDAR
VERSION:2.0
PRODID:-//Ascefet Minas
CALSCALE:GREGORIAN
METHOD:PUBLISH
X-WR-CALNAME:Ascefet Minas
X-ORIGINAL-URL:https://ascefetmg.org.br/eventos/cafe-com-prosa-fotos-30-10-2024/
X-WR-CALDESC:Café com prosa fotos 30/10/2024
BEGIN:VEVENT
DTSTART:
DTEND:
SUMMARY:Café com prosa fotos 30/10/2024
DESCRIPTION:
LOCATION:
END:VEVENT
END:VCALENDAR
